BEGIN:VCALENDAR
VERSION:2.0
PRODID:-//EAWLC 东西联学社 - ECPv6.15.20//NONSGML v1.0//EN
CALSCALE:GREGORIAN
METHOD:PUBLISH
X-ORIGINAL-URL:https://www.eawlc.org
X-WR-CALDESC:Events for EAWLC 东西联学社
REFRESH-INTERVAL;VALUE=DURATION:PT1H
X-Robots-Tag:noindex
X-PUBLISHED-TTL:PT1H
BEGIN:VTIMEZONE
TZID:America/Toronto
BEGIN:DAYLIGHT
TZOFFSETFROM:-0500
TZOFFSETTO:-0400
TZNAME:EDT
DTSTART:20250309T070000
END:DAYLIGHT
BEGIN:STANDARD
TZOFFSETFROM:-0400
TZOFFSETTO:-0500
TZNAME:EST
DTSTART:20251102T060000
END:STANDARD
BEGIN:DAYLIGHT
TZOFFSETFROM:-0500
TZOFFSETTO:-0400
TZNAME:EDT
DTSTART:20260308T070000
END:DAYLIGHT
BEGIN:STANDARD
TZOFFSETFROM:-0400
TZOFFSETTO:-0500
TZNAME:EST
DTSTART:20261101T060000
END:STANDARD
BEGIN:DAYLIGHT
TZOFFSETFROM:-0500
TZOFFSETTO:-0400
TZNAME:EDT
DTSTART:20270314T070000
END:DAYLIGHT
BEGIN:STANDARD
TZOFFSETFROM:-0400
TZOFFSETTO:-0500
TZNAME:EST
DTSTART:20271107T060000
END:STANDARD
END:VTIMEZONE
BEGIN:VEVENT
DTSTART;TZID=America/Toronto:20260504T193000
DTEND;TZID=America/Toronto:20260504T210000
DTSTAMP:20260424T052920
CREATED:20260401T122217Z
LAST-MODIFIED:20260401T122220Z
UID:3000-1777923000-1777928400@www.eawlc.org
SUMMARY:How Canada Works: The EAWLC Civics Class & Seminar — May 2026
DESCRIPTION:Join How Canada Works: The EAWLC Civics Class & Seminar\, a monthly program exploring Canadian society\, civic life\, and public institutions. Held on selected dates from March to November\, the series concludes with a Year-end Celebration Party in December. Transcripts of translations in different languages are available on Zoom.
URL:https://www.eawlc.org/calendar/how-canada-works-the-eawlc-civics-class-seminar-may-2026
END:VEVENT
BEGIN:VEVENT
DTSTART;TZID=America/Toronto:20260528T120000
DTEND;TZID=America/Toronto:20260528T130000
DTSTAMP:20260424T052920
CREATED:20260301T051257Z
LAST-MODIFIED:20260301T051623Z
UID:2928-1779969600-1779973200@www.eawlc.org
SUMMARY:EAWLC Lunch Coaching Hour on Business Communication - 2026 Session #3
DESCRIPTION:Welcome to the 2026 EAWLC Lunch Coaching Hour Series on Business Communication! \n\n\n\nRegister for the series today and challenge yourself to think more strategically about what will best support your career growth. \n 
URL:https://www.eawlc.org/calendar/eawlc-lunch-coaching-hour-on-business-communication
CATEGORIES:EAWLC Lunch Coaching Hour
ATTACH;FMTTYPE=image/jpeg:https://www.eawlc.org/wp-content/uploads/2024/04/1692107986372-e1713407469443.jpg
END:VEVENT
END:VCALENDAR