BEGIN:VCALENDAR
VERSION:2.0
PRODID:-//EAWLC 东西联学社 - ECPv6.15.20//NONSGML v1.0//EN
CALSCALE:GREGORIAN
METHOD:PUBLISH
X-ORIGINAL-URL:https://www.eawlc.org
X-WR-CALDESC:Events for EAWLC 东西联学社
REFRESH-INTERVAL;VALUE=DURATION:PT1H
X-Robots-Tag:noindex
X-PUBLISHED-TTL:PT1H
BEGIN:VTIMEZONE
TZID:America/Toronto
BEGIN:DAYLIGHT
TZOFFSETFROM:-0500
TZOFFSETTO:-0400
TZNAME:EDT
DTSTART:20250309T070000
END:DAYLIGHT
BEGIN:STANDARD
TZOFFSETFROM:-0400
TZOFFSETTO:-0500
TZNAME:EST
DTSTART:20251102T060000
END:STANDARD
BEGIN:DAYLIGHT
TZOFFSETFROM:-0500
TZOFFSETTO:-0400
TZNAME:EDT
DTSTART:20260308T070000
END:DAYLIGHT
BEGIN:STANDARD
TZOFFSETFROM:-0400
TZOFFSETTO:-0500
TZNAME:EST
DTSTART:20261101T060000
END:STANDARD
BEGIN:DAYLIGHT
TZOFFSETFROM:-0500
TZOFFSETTO:-0400
TZNAME:EDT
DTSTART:20270314T070000
END:DAYLIGHT
BEGIN:STANDARD
TZOFFSETFROM:-0400
TZOFFSETTO:-0500
TZNAME:EST
DTSTART:20271107T060000
END:STANDARD
END:VTIMEZONE
BEGIN:VEVENT
DTSTART;TZID=America/Toronto:20260302T193000
DTEND;TZID=America/Toronto:20260302T210000
DTSTAMP:20260424T051453
CREATED:20260401T121958Z
LAST-MODIFIED:20260401T122000Z
UID:2996-1772479800-1772485200@www.eawlc.org
SUMMARY:How Canada Works: The EAWLC Civics Class & Seminar — March 2026
DESCRIPTION:Join How Canada Works: The EAWLC Civics Class & Seminar\, a monthly program exploring Canadian society\, civic life\, and public institutions. Held on selected dates from March to November\, the series concludes with a Year-end Celebration Party in December. Transcripts of translations in different languages are available on Zoom.
URL:https://www.eawlc.org/calendar/how-canada-works-the-eawlc-civics-class-seminar-march-2026
ORGANIZER;CN="EAWLC":MAILTO:info@eawlc.org
END:VEVENT
BEGIN:VEVENT
DTSTART;TZID=America/Toronto:20260326T120000
DTEND;TZID=America/Toronto:20260326T130000
DTSTAMP:20260424T051453
CREATED:20260301T045723Z
LAST-MODIFIED:20260322T223237Z
UID:2921-1774526400-1774530000@www.eawlc.org
SUMMARY:EAWLC Lunch Coaching Hour on Business Communication - 2026 Session #1
DESCRIPTION:Welcome to the 2026 EAWLC Lunch Coaching Hour Series on Business Communication! \n\n\n\nSession #1: Active Listening During High Pressure Meetings —How to understanding others better and respond accurately \n\n\n\nRegister the series today and challenge yourself to think more strategically about what will best support your career growth.
URL:https://www.eawlc.org/calendar/eawlc-lunch-coaching-hour-on-business-communication-2026-session-1
CATEGORIES:EAWLC Lunch Coaching Hour
ATTACH;FMTTYPE=image/jpeg:https://www.eawlc.org/wp-content/uploads/2024/04/1692107986372-e1713407469443.jpg
END:VEVENT
BEGIN:VEVENT
DTSTART;TZID=America/Toronto:20260326T120000
DTEND;TZID=America/Toronto:20260326T130000
DTSTAMP:20260424T051453
CREATED:20260401T115824Z
LAST-MODIFIED:20260401T115927Z
UID:2981-1774526400-1774530000@www.eawlc.org
SUMMARY:EAWLC Lunch Coaching Hour on Business Communication 2026-Mar 26\, 2026
DESCRIPTION:Session #1: Active Listening During High Pressure Meetings —How to understand others better and respond accurately
URL:https://www.eawlc.org/calendar/eawlc-lunch-coaching-hour-on-business-communication-2026-mar-26-2026
ORGANIZER;CN="EAWLC":MAILTO:info@eawlc.org
END:VEVENT
BEGIN:VEVENT
DTSTART;TZID=America/Toronto:20260328T140000
DTEND;TZID=America/Toronto:20260328T160000
DTSTAMP:20260424T051453
CREATED:20260401T114705Z
LAST-MODIFIED:20260401T114707Z
UID:2977-1774706400-1774713600@www.eawlc.org
SUMMARY:Guided Tour of Royal Ontario Museum
DESCRIPTION:For membership only
URL:https://www.eawlc.org/calendar/guided-tour-of-royal-ontario-museum
ORGANIZER;CN="EAWLC":MAILTO:info@eawlc.org
END:VEVENT
END:VCALENDAR