BEGIN:VCALENDAR
VERSION:2.0
PRODID:-//EAWLC 东西联学社 - ECPv6.15.20//NONSGML v1.0//EN
CALSCALE:GREGORIAN
METHOD:PUBLISH
X-WR-CALNAME:EAWLC 东西联学社
X-ORIGINAL-URL:https://www.eawlc.org
X-WR-CALDESC:Events for EAWLC 东西联学社
REFRESH-INTERVAL;VALUE=DURATION:PT1H
X-Robots-Tag:noindex
X-PUBLISHED-TTL:PT1H
BEGIN:VTIMEZONE
TZID:America/Toronto
BEGIN:DAYLIGHT
TZOFFSETFROM:-0500
TZOFFSETTO:-0400
TZNAME:EDT
DTSTART:20250309T070000
END:DAYLIGHT
BEGIN:STANDARD
TZOFFSETFROM:-0400
TZOFFSETTO:-0500
TZNAME:EST
DTSTART:20251102T060000
END:STANDARD
BEGIN:DAYLIGHT
TZOFFSETFROM:-0500
TZOFFSETTO:-0400
TZNAME:EDT
DTSTART:20260308T070000
END:DAYLIGHT
BEGIN:STANDARD
TZOFFSETFROM:-0400
TZOFFSETTO:-0500
TZNAME:EST
DTSTART:20261101T060000
END:STANDARD
BEGIN:DAYLIGHT
TZOFFSETFROM:-0500
TZOFFSETTO:-0400
TZNAME:EDT
DTSTART:20270314T070000
END:DAYLIGHT
BEGIN:STANDARD
TZOFFSETFROM:-0400
TZOFFSETTO:-0500
TZNAME:EST
DTSTART:20271107T060000
END:STANDARD
END:VTIMEZONE
BEGIN:VEVENT
DTSTART;TZID=America/Toronto:20260423T120000
DTEND;TZID=America/Toronto:20260423T130000
DTSTAMP:20260420T172234
CREATED:20260301T051930Z
LAST-MODIFIED:20260419T201430Z
UID:2932-1776945600-1776949200@www.eawlc.org
SUMMARY:EAWLC Lunch Coaching Hour on Business Communication - 2026 Session #2
DESCRIPTION:Welcome to the 2026 EAWLC Lunch Coaching Hour Series on Business Communication! \n\n\n\nSession #2:  Persuading stakeholders to support a new idea \n\n\n\nRegister for the series today and challenge yourself to think more strategically about what will best support your career growth. \n 
URL:https://www.eawlc.org/calendar/eawlc-lunch-coaching-hour-on-business-communication-2026-session-2
ATTACH;FMTTYPE=image/jpeg:https://www.eawlc.org/wp-content/uploads/2024/04/1692107986372-e1713407469443.jpg
END:VEVENT
END:VCALENDAR