BEGIN:VCALENDAR
VERSION:2.0
PRODID:-//EAWLC 东西联学社 - ECPv6.15.20//NONSGML v1.0//EN
CALSCALE:GREGORIAN
METHOD:PUBLISH
X-ORIGINAL-URL:https://www.eawlc.org
X-WR-CALDESC:Events for EAWLC 东西联学社
REFRESH-INTERVAL;VALUE=DURATION:PT1H
X-Robots-Tag:noindex
X-PUBLISHED-TTL:PT1H
BEGIN:VTIMEZONE
TZID:America/Toronto
BEGIN:DAYLIGHT
TZOFFSETFROM:-0500
TZOFFSETTO:-0400
TZNAME:EDT
DTSTART:20250309T070000
END:DAYLIGHT
BEGIN:STANDARD
TZOFFSETFROM:-0400
TZOFFSETTO:-0500
TZNAME:EST
DTSTART:20251102T060000
END:STANDARD
BEGIN:DAYLIGHT
TZOFFSETFROM:-0500
TZOFFSETTO:-0400
TZNAME:EDT
DTSTART:20260308T070000
END:DAYLIGHT
BEGIN:STANDARD
TZOFFSETFROM:-0400
TZOFFSETTO:-0500
TZNAME:EST
DTSTART:20261101T060000
END:STANDARD
BEGIN:DAYLIGHT
TZOFFSETFROM:-0500
TZOFFSETTO:-0400
TZNAME:EDT
DTSTART:20270314T070000
END:DAYLIGHT
BEGIN:STANDARD
TZOFFSETFROM:-0400
TZOFFSETTO:-0500
TZNAME:EST
DTSTART:20271107T060000
END:STANDARD
END:VTIMEZONE
BEGIN:VEVENT
DTSTART;TZID=America/Toronto:20260221T163000
DTEND;TZID=America/Toronto:20260221T200000
DTSTAMP:20260424T082356
CREATED:20260401T114542Z
LAST-MODIFIED:20260401T114545Z
UID:2975-1771691400-1771704000@www.eawlc.org
SUMMARY:Spring Festival Celebration
DESCRIPTION:For membership only
URL:https://www.eawlc.org/calendar/spring-festival-celebration
ORGANIZER;CN="EAWLC":MAILTO:info@eawlc.org
END:VEVENT
END:VCALENDAR